BEGIN:VCALENDAR
VERSION:2.0
PRODID:-//ChamberMaster//Event Calendar 2.0//EN
METHOD:PUBLISH
X-PUBLISHED-TTL:P3D
REFRESH-INTERVAL:P3D
CALSCALE:GREGORIAN
BEGIN:VEVENT
DTSTART;VALUE=DATE:20090727
DTEND;VALUE=DATE:20090801
TRANSP:TRANSPARENT
X-MICROSOFT-CDO-ALLDAYEVENT:TRUE
SUMMARY:VBS
DESCRIPTION:Crocadial Doc!The program will held August 2\, 2009
X-ALT-DESC;FMTTYPE=text/html:<div>Crocadial Doc!</div><div>The program will held August 2\, 2009</div>
LOCATION:Hwy Church of the Nazarene
UID:e.457.2464
SEQUENCE:3
DTSTAMP:20260423T040530Z
URL:http://avaareachamber.chambermaster.com/events/details/vbs-07-27-2009-2464
END:VEVENT

END:VCALENDAR
