BEGIN:VCALENDAR
VERSION:2.0
PRODID:-//ChamberMaster//Event Calendar 2.0//EN
METHOD:PUBLISH
X-PUBLISHED-TTL:P3D
REFRESH-INTERVAL:P3D
CALSCALE:GREGORIAN
BEGIN:VEVENT
DTSTART:20090618T150000Z
DTEND:20090618T170000Z
X-MICROSOFT-CDO-ALLDAYEVENT:FALSE
SUMMARY:Mad Science
DESCRIPTION:Mad Science will present a science program for children.
X-ALT-DESC;FMTTYPE=text/html:<div>Mad Science will present a science program for children.</div>
LOCATION:Douglas County Public Library
UID:e.457.2667
SEQUENCE:3
DTSTAMP:20260423T175922Z
URL:http://avaareachamber.chambermaster.com/events/details/mad-science-06-18-2009-2667
END:VEVENT

END:VCALENDAR
