BEGIN:VCALENDAR
VERSION:2.0
PRODID:-//ChamberMaster//Event Calendar 2.0//EN
METHOD:PUBLISH
X-PUBLISHED-TTL:P3D
REFRESH-INTERVAL:P3D
CALSCALE:GREGORIAN
BEGIN:VEVENT
DTSTART;VALUE=DATE:20091112
DTEND;VALUE=DATE:20091113
TRANSP:TRANSPARENT
X-MICROSOFT-CDO-ALLDAYEVENT:TRUE
SUMMARY:FFA District Speech
DESCRIPTION:FFA District Speech at MSU Athletic Banquet @ 6:30 in HS Cafeteria
X-ALT-DESC;FMTTYPE=text/html:<div>FFA District Speech at MSU Athletic Banquet @ 6:30 in HS Cafeteria</div>
LOCATION:
UID:e.457.4441
SEQUENCE:3
DTSTAMP:20260419T210451Z
URL:http://avaareachamber.chambermaster.com/events/details/ffa-district-speech-11-12-2009-4441
END:VEVENT

END:VCALENDAR
