BEGIN:VCALENDAR
VERSION:2.0
PRODID:-//ChamberMaster//Event Calendar 2.0//EN
METHOD:PUBLISH
X-PUBLISHED-TTL:P3D
REFRESH-INTERVAL:P3D
CALSCALE:GREGORIAN
BEGIN:VEVENT
DTSTART;VALUE=DATE:20091105
DTEND;VALUE=DATE:20091106
TRANSP:TRANSPARENT
X-MICROSOFT-CDO-ALLDAYEVENT:TRUE
SUMMARY:FFA Area Barnwarming
DESCRIPTION:
X-ALT-DESC;FMTTYPE=text/html:
LOCATION:
UID:e.457.4438
SEQUENCE:3
DTSTAMP:20260422T112937Z
URL:http://avaareachamber.chambermaster.com/events/details/ffa-area-barnwarming-11-05-2009-4438
END:VEVENT

END:VCALENDAR
