BEGIN:VCALENDAR
VERSION:2.0
PRODID:-//ChamberMaster//Event Calendar 2.0//EN
METHOD:PUBLISH
X-PUBLISHED-TTL:P3D
REFRESH-INTERVAL:P3D
CALSCALE:GREGORIAN
BEGIN:VEVENT
DTSTART:20141029T000000Z
DTEND:20141029T020000Z
X-MICROSOFT-CDO-ALLDAYEVENT:FALSE
SUMMARY:Common Core Curriculum Forum
DESCRIPTION:ATTENTION PARENTS\, TEACHERS AND ANYONE\n\nINTERESTED IN THE FUTURE OF EDUCATION\n\n\n\nPUBLIC FORUM\n\n(non-partison)\n\nOCTOBER 28\, 2014\n\n7:00 PM\n\nAVA VICTORY ACADEMY ALL PURPOSE ROOM\n\n\n\nCOMMON CORE CURRICULUM\n\nNOVEMBER BALLOT AMENDMENTS\n\n\n\nSPEAKERS\n\nDR. MARY BYRNE\n\nCoordinator of curriculum\, assessment\, accreditation\, and differentiated instruction\n\n\n\nSCOTT E. PEARSON\, M.COM.\n\nSouthwest Region Field Director for the Campaign to Protect Our Local Schools\n\n\n\nOpen microphone available for your questions and comments\n\n\n\nSponsored by the Douglas County Republican Committee
X-ALT-DESC;FMTTYPE=text/html:<div style="text-align: center\;"><span style="font-size:14px\;"><strong><span style="background-color:#FFFF00\;">ATTENTION </span><u><span style="background-color:#FFFF00\;">PARENTS</span></u><span style="background-color:#FFFF00\;">\, </span><u><span style="background-color:#FFFF00\;">TEACHERS</span></u><span style="background-color:#FFFF00\;"> AND</span><u><span style="background-color:#FFFF00\;"> ANYONE</span></u><br />\n<span style="background-color:#FFFF00\;">INTERESTED IN THE FUTURE OF EDUCATION</span><br />\n<br />\n<span style="font-size:16px\;"><span style="font-family:comic sans ms\;">PUBLIC FORUM<br />\n(non-partison)</span></span><br />\nOCTOBER 28\, 2014<br />\n7:00 PM<br />\nAVA VICTORY ACADEMY ALL PURPOSE ROOM<br />\n<br />\nCOMMON CORE CURRICULUM<br />\nNOVEMBER BALLOT AMENDMENTS<br />\n<br />\n<u><span style="font-size:16px\;">SPEAKERS</span></u><br />\nDR. MARY BYRNE<br />\n<span style="font-size:12px\;">Coordinator of curriculum\, assessment\, accreditation\, and differentiated instruction</span><br />\n<br />\nSCOTT E. PEARSON\, M.COM.<br />\n<span style="font-size:12px\;">Southwest Region Field Director for the Campaign to Protect Our Local Schools</span><br />\n<br />\nOpen microphone available for your questions and comments<br />\n<br />\n<span style="font-size:11px\;">Sponsored by the Douglas County Republican Committee</span></strong></span></div>\n
LOCATION:AVA VICTORY ACADEMY 1005 NW 12TH AVENUE AVA\, MO
UID:e.457.10767
SEQUENCE:3
DTSTAMP:20260422T135048Z
URL:http://avaareachamber.chambermaster.com/events/details/common-core-curriculum-forum-10-28-2014-10767
END:VEVENT

END:VCALENDAR
