BEGIN:VCALENDAR
VERSION:2.0
PRODID:-//ChamberMaster//Event Calendar 2.0//EN
METHOD:PUBLISH
X-PUBLISHED-TTL:P3D
REFRESH-INTERVAL:P3D
CALSCALE:GREGORIAN
BEGIN:VEVENT
DTSTART;VALUE=DATE:20091124
DTEND;VALUE=DATE:20091125
TRANSP:TRANSPARENT
X-MICROSOFT-CDO-ALLDAYEVENT:TRUE
SUMMARY:ASVAB testing
DESCRIPTION:ASVAB testing for 11th graders. November 23-24
X-ALT-DESC;FMTTYPE=text/html:<div>ASVAB testing for 11th graders. November 23-24</div>\n
LOCATION:
UID:e.457.4451
SEQUENCE:3
DTSTAMP:20260419T225109Z
URL:http://avaareachamber.chambermaster.com/events/details/asvab-testing-11-24-2009-4451
END:VEVENT

END:VCALENDAR
